Workbook

Sheet PLANILHA EXECUÇÃO
A6: PLANILHA DE CUSTOS REFERENCIAIS | E6: EXECUÇÃO DO PROJETO ARQUITETÔNICO DE INTERIORES NA SEDE DA CÂMARA MUNICIPAL DE GUARAPARI
A7: DATA BASE:MERCADO FEVEREIRO/2023 DER JAN/2023
A8: CÂMARA MUNICIPAL DE GUARAPARI
A9: BDI - 30,9% / LS - 157,77%
A10: REF. | D10: ESPECIFICAÇÃO | E10: UND. | F10: QUANT. | G10: UNIT. | H10: TOTAL
A11: 1 | B11: '0102 | D11: DEMOLIÇÕES E RETIRADAS | H11: =SUM(H12:H13) -> 2811.02
A12: 1.1 | B12: '010240 | C12: DER | D12: Retirada de pontos elétricos (luminárias, interruptores e tomadas) | E12: und | F12: 30 | G12: =9.84*1.309 -> 12.88056 | H12: =ROUND(G12*F12,2) -> 386.42
A13: 1.2 | B13: C1677 | C13: SEINFRA | D13: LUMINÁRIA TIPO SPOT DIRECIONAL C/ BRAÇO E LÂMPADA INCANDESCENTE | E13: und | F13: ='MEMORIAL EXECUÇÃO'!H44 -> 25 | G13: =74.09*1.309 -> 96.98381 | H13: =ROUND(G13*F13,2) -> 2424.6
A14: 2 | B14: '0717 | D14: ESQUADRIAS METÁLICAS (M2) | H14: =SUM(H15) -> 2508.8
A15: 2.1 | B15: C1388 | C15: SEINFRA | D15: FIXO DE VIDRO TEMPERADO 2 FOLHAS (1.80X2.10)m E=10mm - CJ | E15: m2 | F15: 1 | G15: =1916.58*1.309 -> 2508.8032 | H15: =ROUND(G15*F15,2) -> 2508.8
B16: '08 | D16: VIDROS E ESPELHOS | H16: =ROUND(G16*F16,2) -> 0
A17: 3 | B17: '0801 | D17: VIDROS PARA ESQUADRIAS | H17: =SUM(H18:H20) -> 16480.331
A18: 3.1 | B18: C4950 | C18: SEINFRA | D18: VIDRO TEMPERADO INCOLOR C/MASSA E=8MM, COLOCADO - M2 | E18: m2 | F18: ='MEMORIAL EXECUÇÃO'!H67 -> 10.614 | G18: =305.34*1.309 -> 399.69006 | H18: =ROUND(G18*F18,2) -> 4242.31
A19: 3.2 | B19: C1957 | C19: SEINFRA | D19: PORTA C/BANDEIRA DE VIDRO TEMPERADO E=10mm C/MOLA (0.90X3.50)m | E19: und | F19: 1 | G19: =2528.28*1.309 -> 3309.5185 | H19: =F19*G19 -> 3309.5185
A20: 3.3 | C20: MERCADO | D20: GUARDA CORPO DE VIDRO COM ESQUADRIA EM INOX PRETO | E20: m2 | F20: ='MEMORIAL EXECUÇÃO'!H71 -> 9.35 | G20: ='COMP. GUARDA CORPO'!J57 -> 954.92 | H20: =F20*G20 -> 8928.502
A21: 4 | B21: '1102 | D21: REBAIXAMENTOS | H21: =SUM(H22) -> 800.06
A22: 4.1 | B22: '110201 | C22: DER | D22: Forro de gesso acabamento tipo liso | E22: m2 | F22: ='MEMORIAL EXECUÇÃO'!H47 -> 11.532 | G22: =53*1.309 -> 69.377 | H22: =ROUND(G22*F22,2) -> 800.06
B23: '19 | D23: PINTURA | H23: =SUM(H25:H26) -> 6325.71
A24: 5 | B24: '1901 | D24: SOBRE PAREDES E FORROS | H24: =ROUND(G24*F24,2) -> 0
A25: 5.1 | B25: '190101 | C25: DER | D25: Emassamento de paredes e forros, com duas demãos de massa à base de PVA, marcas de referência Suvinil, Coral ou Metalatex | E25: m2 | F25: ='MEMORIAL EXECUÇÃO'!H53 -> 125.064 | G25: =13.09*1.309 -> 17.13481 | H25: =ROUND(G25*F25,2) -> 2142.95
A26: 5.2 | B26: '190104 | C26: DER | D26: Pintura com tinta látex PVA, marcas de referência Suvinil, Coral ou Metalatex, inclusive selador em paredes e forros, a três demãos | E26: m2 | F26: ='MEMORIAL EXECUÇÃO'!H57 -> 125.064 | G26: =25.55*1.309 -> 33.44495 | H26: =ROUND(G26*F26,2) -> 4182.76
A27: 6 | D27: ACABAMENTO | H27: =SUM(H28:H33) -> 208077.04
A28: 6.1 | C28: MERCADO | D28: PAINEL EM MDF FREIJÓ | E28: m2 | F28: ='MEMORIAL EXECUÇÃO'!H15 -> 49.545 | G28: ='COMP. PAINEL MDF'!J57 -> 618.12 | H28: =ROUND(G28*F28,2) -> 30624.76
A29: 6.2 | C29: MERCADO | D29: PAINEL RIPADO EM MDF FREIJÓ | E29: m2 | F29: ='MEMORIAL EXECUÇÃO'!H21+'MEMORIAL EXECUÇÃO'!H27 -> 78.1215 | G29: ='COMP. PAINEL MDF RIPADO'!J57 -> 1492.62 | H29: =ROUND(G29*F29,2) -> 116605.71
A30: 6.3 | C30: MERCADO | D30: PORTA DE MADEIRA DE LEI REVESTIDA COM PAINEL RIPADO | E30: und | F30: 3 | G30: ='COMP. PORTAS'!J61 -> 4216.1 | H30: =ROUND(G30*F30,2) -> 12648.3
A31: 6.4 | C31: MERCADO | D31: PERFIL ALUMÍNIO DE LED DE EMBUTIR LARGURA 2CM | E31: m | F31: ='MEMORIAL EXECUÇÃO'!H40 -> 78.15 | G31: ='COMP. PERFIL LED'!J53 -> 178.96 | H31: =ROUND(G31*F31,2) -> 13985.72
A32: 6.5 | C32: MERCADO | D32: FORNECIMENTO E INSTALAÇÃO DE PAPEL DE PAREDE PERSONALIZADO | E32: m2 | F32: ='MEMORIAL EXECUÇÃO'!H76 -> 64.807 | G32: ='COMP. PAPEL DE PAREDE'!J57 -> 348.73 | H32: =ROUND(G32*F32,2) -> 22600.15
A33: 6.6 | C33: MERCADO | D33: FORNECIMENTO E INSTALAÇÃO DE CARPETE | E33: m2 | F33: ='MEMORIAL EXECUÇÃO'!H81 -> 60 | G33: ='COMP. CARPETE'!J57 -> 193.54 | H33: =ROUND(G33*F33,2) -> 11612.4
D35: VALOR GERAL DA OBRA TOTAL | H35: =H11+H14+H17+H21+H23+H27 -> 237002.96
E37: Eng. Cristiano Costa
E38: CREA-ES nº 15650/D

Sheet MEMORIAL EXECUÇÃO
A6: PLANILHA DE CUSTOS REFERENCIAIS | D6: EXECUÇÃO DO PROJETO ARQUITETÔNICO DE INTERIORES NA SEDE DA CÂMARA MUNICIPAL DE GUARAPARI
A7: DATA BASE:MERCADO FEV/2023; DER JAN/2023
A8: CÂMARA MUNICIPAL DE GUARAPARI
A9: BDI - 30,9% / LS - 157,77%
A11: Item | B11: Especificação | C11: Quantidade | H11: Área (m²)
A12: 4.1 | B12: ENVELOPAMENTO DE PAREDES COM REVESTIMENTO EM MDF FREIJÓ | E12: Comprimento (m) | F12: Altura (m) | G12: Largura(m)
B13: PLENÁRIO | E13: =10.67+8.62 -> 19.29 | F13: 3.3 | G13: 1.85 | H13: =E13*F13 -> 63.657
B14: DESCONTO VÃO DE PASSAGEM | E14: =2+3.04 -> 5.04 | F14: 2.8 | H14: =E14*F14 -> 14.112
H15: =SUM(H13:H13)-H14 -> 49.545
A17: 4.2 | B17: ENVELOPAMENTO DE PAREDES COM REVESTIMENTO RIPADO EM MDF FREIJÓ | E17: Comprimento (m) | F17: Altura (m) | H17: Área (m²)
B18: PLENÁRIO | E18: 8.62 | F18: =3.3+1.5 -> 4.8 | H18: =E18*F18 -> 41.376
H19: =E19*F19 -> 0
H20: =E20*F20 -> 0
H21: =SUM(H18:H20) -> 41.376
A23: 4.2 | B23: ENVELOPAMENTO DE PAREDES COM REVESTIMENTO RIPADO EM MADEIRA DE LEI | E23: Comprimento (m) | F23: Altura (m) | H23: Área (m²)
B24: CORREDOR DA ENTRADA | E24: 9.35 | F24: 3.93 | H24: =E24*F24 -> 36.7455
H25: =E25*F25 -> 0
H26: =E26*F26 -> 0
H27: =SUM(H24:H26) -> 36.7455
A29: 4.3 | B29: PORTAS EM MADEIRA DE LEI REVESTIDAS COM MADEIRA RIPADA | H29: Unidade (uni)
B30: ENTRADA PRINCIPAL | H30: 1
B31: ENTRADA RECEPÇÃO | H31: 1
B32: ENTRADA CORREDOR TERREO | H32: 1
H33: =E33*F33 -> 0
H34: =E34*F34 -> 0
H35: =SUM(H30:H34) -> 3
A37: 4.4 | B37: PERFIL ALUMÍNIO DE LED DE EMBUTIR LARGURA 2CM MARCENARIA | H37: Compri (m)
B38: PLENÁRIO | H38: 43.6
B39: CORREDOR DA ENTRADA | H39: 34.55
H40: =SUM(H38:H39) -> 78.15
A42: 1.2 | B42: LUMINÁRIA TIPO SPOT DIRECIONAL C/ BRAÇO E LÂMPADA INCANDESCENTE | H42: Unidade (uni)
B43: PLENÁRIO | H43: =13+12 -> 25
H44: =SUM(H43:H43) -> 25
A46: 2.1 | B46: Forro de gesso acabamento tipo liso | D46: Quantidade | E46: Comprimento (m) | F46: Altura (m) | H46: Área (m²)
B47: RETIRADA DE LUMINÁRIAS NO PLENARIO | D47: 30 | E47: 0.62 | F47: 0.62 | H47: =D47*E47*F47 -> 11.532
H48: =SUM(H47) -> 11.532
A51: 3.1 | B51: Emassamento de paredes e forros, com duas demãos de massa à base de PVA, marcas de referência Suvinil, Coral ou Metalatex | E51: Comprimento (m) | F51: Altura (m) | H51: Área (m²)
B52: TETO PLENÁRIO | E52: 10.8 | F52: 11.58 | H52: =E52*F52 -> 125.064
H53: =SUM(H52:H52) -> 125.064
A55: 3.2 | B55: Pintura com tinta látex PVA, marcas de referência Suvinil, Coral ou Metalatex, inclusive selador em paredes e forros, a três demãos | E55: Comprimento (m) | F55: Altura (m) | H55: Área (m²)
...

Sheet CRONOGRAMA EXECUÇÃO
A6: CRONOGRAMA FÍSICO-FINANCEIRO
A7: EXECUÇÃO DO PROJETO ARQUITETÔNICO DE INTERIORES NA SEDE DA CÂMARA MUNICIPAL DE GUARAPARI | J7: DATA BASE: JAN/2023
A8: ITEM | B8: SERVIÇOS | H8: % | I8: TOTAL
J9: 1 | K9: 2
A10: 1 | B10: DEMOLIÇÕES E RETIRADAS | H10: =I10/I16 -> 0.011860696 | I10: ='PLANILHA EXECUÇÃO'!H11 -> 2811.02 | J10: =I10 -> 2811.02
A11: 2 | B11: ESQUADRIAS METÁLICAS | H11: =I11/I16 -> 0.010585522 | I11: ='PLANILHA EXECUÇÃO'!H14 -> 2508.8 | J11: =I11 -> 2508.8
A12: 3 | B12: VIDROS PARA ESQUADRIAS | H12: =I12/I16 -> 0.069536391 | I12: ='PLANILHA EXECUÇÃO'!H17 -> 16480.331 | J12: =I12/2 -> 8240.1653 | K12: =I12/2 -> 8240.1653
A13: 4 | B13: REBAIXAMENTOS | H13: =I13/I16 -> 0.0033757384 | I13: ='PLANILHA EXECUÇÃO'!H21 -> 800.06 | J13: =I13 -> 800.06
A14: 5 | B14: PINTURA | H14: =I14/I16 -> 0.026690426 | I14: ='PLANILHA EXECUÇÃO'!H23 -> 6325.71 | J14: =I14 -> 6325.71
A15: 6 | B15: ACABAMENTO | H15: =I15/I16 -> 0.87795123 | I15: ='PLANILHA EXECUÇÃO'!H27 -> 208077.04 | J15: =I15/3 -> 69359.013 | K15: =(I15/3)*2 -> 138718.03
A16: TOTAIS | H16: =SUM(H10:H15) -> 1 | I16: ='PLANILHA EXECUÇÃO'!H35 -> 237002.96
A17: % MENSAL | J17: =J18/I16 -> 0.37993099 | K17: =K18/I16 -> 0.62006901
A18: TOTAL MENSAL | J18: =SUM(J10:J15) -> 90044.769 | K18: =SUM(K10:K15) -> 146958.19
A19: % ACUMULADO | J19: =J20/I16 -> 0.37993099 | K19: =K17+J19 -> 1
A20: TOTAL ACUMULADO | J20: =J18 -> 90044.769 | K20: =K18+J20 -> 237002.96
I22: Eng. Cristiano Costa
I23: CREA-ES nº 15650/D

Sheet COMP. PAPEL DE PAREDE
B2: Item: | C2: Serviço: FORNECIMENTO E INSTALAÇÃO DE PAPEL DE PAREDE PERSONALIZADO | I2: Data-base: | J2: Unidade:
B3: MERCADO | I3: 44958 | J3: m2
B4: COTAÇÕES | F4: PAINEL | G4: FITA
B5: BM MADEIRAS | D5: (27)3361-2961 | F5: 350 | G5: 1.44
B6: LEROY MERLIM | D6: 4020-5376 | F6: =70.7*5.09 -> 359.863 | G6: 3.69
B7: MADEIRAS ALBA | D7: (27)3038-6488 | F7: 321 | G7: 1.25
B9: Equipamento | D9: Código | E9: Quant | F9: Uilização | H9: Custo operacional | J9: R$ Custo Horário
F10: Oper. | G10: Improd. | H10: Oper. | I10: Improd.
J11: =TRUNC(E11*(F11*H11+G11*I11),2) -> 0
B15: Custo Horário de Equipamentos - Total (A) | J15: =SUM(J11:J14) -> 0
B17: Mão-de-Obra | F17: Código | G17: Unidade | H17: Quant. | I17: R$ Salário Hora | J17: R$ Custo Horário
B19: AJUDANTE | F19: I0037 | G19: H | H19: 0.5 | I19: 16.77 | J19: =TRUNC(H19*I19,2) -> 8.38
B20: INSTALADOR | F20: I1530 | G20: H | H20: 0.5 | I20: 20.77 | J20: =TRUNC(H20*I20,2) -> 10.38
B23: Custo Horário de Mão-de-Obra - Total (B) | J23: =SUM(J19:J22) -> 18.76
B25: Produção Equipe (C) : | D25: 0.5 | E25: =+J3 -> m2 | F25: Adc. M.O. - Ferramentas: | I25: 0.05 | J25: =+TRUNC(J23*I25,2) -> 0.93
B26: Custo Unitário da Execução (A+B)/(C)=(D) | J26: =TRUNC((J15+J23+J25)/D25,2) -> 39.38
B28: Material (p/unidade) | F28: Código | G28: Unid | H28: Custo | I28: Consumo | J28: R$ Custo Unitário
H29: (R$)
B30: PAPEL DE PAREDE | F30: MERCADO | G30: M² | H30: 227.03 | I30: 1 | J30: =TRUNC(H30*I30,2) -> 227.03
J31: =TRUNC(H31*I31,2) -> 0
J32: =TRUNC(H32*I32,2) -> 0
J33: =TRUNC(H33*I33,2) -> 0
J34: =TRUNC(H34*I34,2) -> 0
J35: =TRUNC(H35*I35,2) -> 0
B36: Custo Total do Material - Total (E) | J36: =SUM(J30:J35) -> 227.03 | M36: =178.1+49.98 -> 228.08
B38: Serviços | F38: Código | G38: Unid | H38: Custo | I38: Consumo | J38: R$ Custo Unitário
H39: (R$)
J40: =H40*I40 -> 0
B44: Custo Total do Serviço - Total (F) | J44: =SUM(J40:J43) -> 0
B46: Custo Unitário Sem Transporte (D+E+F) = (G) | J46: =+J36+J26+J44 -> 266.41
B48: Transporte | D48: Código | E48: DMT | F48: DMT | G48: DMT | H48: Custo | I48: Consumo | J48: R$ Custo Unitário
E49: (XP) | F49: (XR) | G49: (XS) | H49: (R$) | I49: (ton)
B53: Custo Total do Transporte - Total (F)
B55: R$ Custo Unitário Direto (F) + (G) = (H) | J55: =+J53+J46 -> 266.41
B56: R$ Bonificação (H) x (BDI) = (I) | D56: 0.309 | J56: =TRUNC(J55*D56,2) -> 82.32
B57: R$ Preço Unitário (H) + (I) = (J) | J57: =ROUND(J56+J55,2) -> 348.73
B59: Observações:
B60: Composição baseada na tabela referencial de preços de julho de 2021 ORSE.

Sheet COMP. CARPETE
B2: Item: | C2: Serviço: FORNECIMENTO E INSTALAÇÃO DE CARPETE | I2: Data-base: | J2: Unidade:
B3: MERCADO | I3: 44958 | J3: m2
B4: COTAÇÕES | F4: PAINEL | G4: FITA
B5: BM MADEIRAS | D5: (27)3361-2961 | F5: 350 | G5: 1.44
B6: LEROY MERLIM | D6: 4020-5376 | F6: =70.7*5.09 -> 359.863 | G6: 3.69
B7: MADEIRAS ALBA | D7: (27)3038-6488 | F7: 321 | G7: 1.25
B9: Equipamento | D9: Código | E9: Quant | F9: Uilização | H9: Custo operacional | J9: R$ Custo Horário
F10: Oper. | G10: Improd. | H10: Oper. | I10: Improd.
J11: =TRUNC(E11*(F11*H11+G11*I11),2) -> 0
B15: Custo Horário de Equipamentos - Total (A) | J15: =SUM(J11:J14) -> 0
B17: Mão-de-Obra | F17: Código | G17: Unidade | H17: Quant. | I17: R$ Salário Hora | J17: R$ Custo Horário
B19: AJUDANTE | F19: I0037 | G19: H | H19: 0.5 | I19: 16.77 | J19: =TRUNC(H19*I19,2) -> 8.38
B20: INSTALADOR | F20: I1530 | G20: H | H20: 0.5 | I20: 20.77 | J20: =TRUNC(H20*I20,2) -> 10.38
B23: Custo Horário de Mão-de-Obra - Total (B) | J23: =SUM(J19:J22) -> 18.76
B25: Produção Equipe (C) : | D25: 0.5 | E25: =+J3 -> m2 | F25: Adc. M.O. - Ferramentas: | I25: 0.05 | J25: =+TRUNC(J23*I25,2) -> 0.93
B26: Custo Unitário da Execução (A+B)/(C)=(D) | J26: =TRUNC((J15+J23+J25)/D25,2) -> 39.38
B28: Material (p/unidade) | F28: Código | G28: Unid | H28: Custo | I28: Consumo | J28: R$ Custo Unitário
H29: (R$)
B30: CARPETE | F30: MERCADO | G30: M² | H30: 108.48 | I30: 1 | J30: =TRUNC(H30*I30,2) -> 108.48
J31: =TRUNC(H31*I31,2) -> 0
J32: =TRUNC(H32*I32,2) -> 0
J33: =TRUNC(H33*I33,2) -> 0
J34: =TRUNC(H34*I34,2) -> 0
J35: =TRUNC(H35*I35,2) -> 0
B36: Custo Total do Material - Total (E) | J36: =SUM(J30:J35) -> 108.48 | M36: =178.1+49.98 -> 228.08
B38: Serviços | F38: Código | G38: Unid | H38: Custo | I38: Consumo | J38: R$ Custo Unitário
H39: (R$)
J40: =H40*I40 -> 0
B44: Custo Total do Serviço - Total (F) | J44: =SUM(J40:J43) -> 0
B46: Custo Unitário Sem Transporte (D+E+F) = (G) | J46: =+J36+J26+J44 -> 147.86
B48: Transporte | D48: Código | E48: DMT | F48: DMT | G48: DMT | H48: Custo | I48: Consumo | J48: R$ Custo Unitário
E49: (XP) | F49: (XR) | G49: (XS) | H49: (R$) | I49: (ton)
B53: Custo Total do Transporte - Total (F)
B55: R$ Custo Unitário Direto (F) + (G) = (H) | J55: =+J53+J46 -> 147.86
B56: R$ Bonificação (H) x (BDI) = (I) | D56: 0.309 | J56: =TRUNC(J55*D56,2) -> 45.68
B57: R$ Preço Unitário (H) + (I) = (J) | J57: =ROUND(J56+J55,2) -> 193.54
B59: Observações:
B60: Composição baseada na tabela referencial de preços de julho de 2021 ORSE.

Sheet COMP. GUARDA CORPO
B2: Item: | C2: Serviço: GUARDA CORPO DE VIDRO COM ESQUADRIA EM INOX PRETO | I2: Data-base: | J2: Unidade:
B3: MERCADO | I3: 44958 | J3: m2
B4: COTAÇÕES | F4: PAINEL | G4: FITA
B5: BM MADEIRAS | D5: (27)3361-2961 | F5: 350 | G5: 1.44
B6: LEROY MERLIM | D6: 4020-5376 | F6: =70.7*5.09 -> 359.863 | G6: 3.69
B7: MADEIRAS ALBA | D7: (27)3038-6488 | F7: 321 | G7: 1.25
B9: Equipamento | D9: Código | E9: Quant | F9: Uilização | H9: Custo operacional | J9: R$ Custo Horário
F10: Oper. | G10: Improd. | H10: Oper. | I10: Improd.
J11: =TRUNC(E11*(F11*H11+G11*I11),2) -> 0
B15: Custo Horário de Equipamentos - Total (A) | J15: =SUM(J11:J14) -> 0
B17: Mão-de-Obra | F17: Código | G17: Unidade | H17: Quant. | I17: R$ Salário Hora | J17: R$ Custo Horário
B19: AJUDANTE | F19: I0037 | G19: H | H19: 0.5 | I19: 16.77 | J19: =TRUNC(H19*I19,2) -> 8.38
B20: MONTADOR | F20: I1530 | G20: H | H20: 0.5 | I20: 20.77 | J20: =TRUNC(H20*I20,2) -> 10.38
B23: Custo Horário de Mão-de-Obra - Total (B) | J23: =SUM(J19:J22) -> 18.76
B25: Produção Equipe (C) : | D25: 0.5 | E25: =+J3 -> m2 | F25: Adc. M.O. - Ferramentas: | I25: 0.05 | J25: =+TRUNC(J23*I25,2) -> 0.93
B26: Custo Unitário da Execução (A+B)/(C)=(D) | J26: =TRUNC((J15+J23+J25)/D25,2) -> 39.38
B28: Material (p/unidade) | F28: Código | G28: Unid | H28: Custo | I28: Consumo | J28: R$ Custo Unitário
H29: (R$)
B30: VIDRO TEMPERADO 8MM INCOLOR SEM COLOCAÇÃO | F30: MERCADO | G30: M² | H30: 271.96 | I30: 1 | J30: =TRUNC(H30*I30,2) -> 271.96
B31: COLUNA TORRE EM INOX 304 PRETO COM 1,00M | F31: MERCADO | G31: UNI | H31: 165 | I31: 2 | J31: =TRUNC(H31*I31,2) -> 330
B32: TUBO INOX 304 QUADRADO 10X10 PRETO | F32: MERCADO | G32: M | H32: 88.17 | I32: 1 | J32: =TRUNC(H32*I32,2) -> 88.17
J33: =TRUNC(H33*I33,2) -> 0
J34: =TRUNC(H34*I34,2) -> 0
J35: =TRUNC(H35*I35,2) -> 0
B36: Custo Total do Material - Total (E) | J36: =SUM(J30:J35) -> 690.13 | M36: =178.1+49.98 -> 228.08
B38: Serviços | F38: Código | G38: Unid | H38: Custo | I38: Consumo | J38: R$ Custo Unitário
H39: (R$)
J40: =H40*I40 -> 0
B44: Custo Total do Serviço - Total (F) | J44: =SUM(J40:J43) -> 0
B46: Custo Unitário Sem Transporte (D+E+F) = (G) | J46: =+J36+J26+J44 -> 729.51
B48: Transporte | D48: Código | E48: DMT | F48: DMT | G48: DMT | H48: Custo | I48: Consumo | J48: R$ Custo Unitário
E49: (XP) | F49: (XR) | G49: (XS) | H49: (R$) | I49: (ton)
B53: Custo Total do Transporte - Total (F)
B55: R$ Custo Unitário Direto (F) + (G) = (H) | J55: =+J53+J46 -> 729.51
B56: R$ Bonificação (H) x (BDI) = (I) | D56: 0.309 | J56: =TRUNC(J55*D56,2) -> 225.41
B57: R$ Preço Unitário (H) + (I) = (J) | J57: =ROUND(J56+J55,2) -> 954.92
B59: Observações:
B60: Composição baseada na tabela referencial de preços de julho de 2021 ORSE.

Sheet COMP. VIDRO
B1: Relatório de Composições
B2: Tabela 027.1 - ENC. SOCIAIS 83,85%
B3: SEINFRA
A4: C4950 - VIDRO TEMPERADO INCOLOR C/MASSA E=8MM, COLOCADO - M2
A5: MAO DE OBRA | C5: Unidade | D5: Coeficiente | E5: Preço | F5: Total
A6: I0037 | B6: AJUDANTE | C6: H | D6: 0.5 | E6: 16.77 | F6: 8.385
A7: I1530 | B7: MONTADOR | C7: H | D7: 0.5 | E7: 20.77 | F7: 10.385
E8: Total: | F8: 18.77
A9: MATERIAIS
A10: I1516 | B10: MASSA PARA VIDRO | C10: KG | D10: 1.5 | E10: 9.74 | F10: 14.61
A11: I9448 | B11: VIDRO TEMPERADO 8MM INCOLOR SEM COLOCAÇÃO | C11: M2 | D11: 1 | E11: 271.96 | F11: 271.96
E12: Total: | F12: 286.57
D13: Total Simples: | F13: 305.34
D14: Encargos Sociais: | F14: INCLUSO
D15: Valor BDI: | F15: 1.309
D16: Valor Geral: | F16: =F13*F15 -> 399.69006

Sheet COMP. PORTA DE VIDRO
B1: Relatório de Composições
B2: Tabela 027.1 - ENC. SOCIAIS 83,85%
B3: SEINFRA
A4: C1957 - PORTA C/BANDEIRA DE VIDRO TEMPERADO E=10mm C/MOLA (0.90X3.50)m - CJ
A5: MATERIAIS | C5: Unidade | D5: Coeficiente | E5: Preço | F5: Total
A6: I1034 | B6: DOBRADIÇA INFERIOR (1103) | C6: UN | D6: 1.3 | E6: 35.21 | F6: 45.773
A7: I1036 | B7: DOBRADIÇA SUPERIOR (1101) | C7: UN | D7: 1.3 | E7: 29.08 | F7: 37.804
A8: I1152 | B8: FECHADURA CENTRAL COM 2 CILINDROS (1521) | C8: UN | D8: 1.3 | E8: 107.87 | F8: 140.231
A9: I1525 | B9: MOLA HIDRAULICA P/PORTA DE VIDRO (1012) | C9: UN | D9: 1.3 | E9: 604.34 | F9: 785.642
A10: I1743 | B10: PUXADOR CONCHA (1606) | C10: UN | D10: 1.3 | E10: 12.03 | F10: 15.639
A11: I1896 | B11: SUPORTE DE CANTO (1302) | C11: UN | D11: 3.9 | E11: 20.43 | F11: 79.677
A12: I1905 | B12: SUPORTE PARA BANDEIRA COM PONTO GIRO (1203) | C12: UN | D12: 1.3 | E12: 52.39 | F12: 68.107
A13: I2258 | B13: VIDRO TEMPERADO 10MM INCOLOR SEM COLOCAÇÃO | C13: M2 | D13: 4.095 | E13: 330.99 | F13: 1355.4041
E14: Total: | F14: 2528.277
D15: Total Simples: | F15: 2528.2771
D16: Encargos Sociais: | F16: INCLUSO
D17: Valor BDI: | F17: 1.309
D18: Valor Geral: | F18: =F15*F17 -> 3309.5147

Sheet COMP. PAINEL MDF
B2: Item: | C2: Serviço: PAINEL EM MDF FREIJÓ | I2: Data-base: | J2: Unidade:
B3: MERCADO | I3: 44958 | J3: m2
B4: COTAÇÕES | F4: PAINEL | G4: FITA
B5: BM MADEIRAS | D5: (27)3361-2961 | F5: 350 | G5: 1.44
B6: LEROY MERLIM | D6: 4020-5376 | F6: =70.7*5.09 -> 359.863 | G6: 3.69
B7: MADEIRAS ALBA | D7: (27)3038-6488 | F7: 321 | G7: 1.25
B9: Equipamento | D9: Código | E9: Quant | F9: Uilização | H9: Custo operacional | J9: R$ Custo Horário
F10: Oper. | G10: Improd. | H10: Oper. | I10: Improd.
J11: =TRUNC(E11*(F11*H11+G11*I11),2) -> 0
B15: Custo Horário de Equipamentos - Total (A) | J15: =SUM(J11:J14) -> 0
B17: Mão-de-Obra | F17: Código | G17: Unidade | H17: Quant. | I17: R$ Salário Hora | J17: R$ Custo Horário
B19: AJUDANTE (AJUDANTE PRATICO - SINDUSCON) (LABOR) | F19: '010101 | G19: H | H19: 0.594 | I19: 18.01 | J19: =TRUNC(H19*I19,2) -> 10.69
B20: MARCENEIRO | F20: MERCADO | G20: H | H20: 0.377 | I20: 41.3 | J20: =TRUNC(H20*I20,2) -> 15.57
B23: Custo Horário de Mão-de-Obra - Total (B) | J23: =SUM(J19:J22) -> 26.26
B25: Produção Equipe (C) : | D25: 0.5 | E25: =+J3 -> m2 | F25: Adc. M.O. - Ferramentas: | I25: 0.05 | J25: =+TRUNC(J23*I25,2) -> 1.31
B26: Custo Unitário da Execução (A+B)/(C)=(D) | J26: =TRUNC((J15+J23+J25)/D25,2) -> 55.14
B28: Material (p/unidade) | F28: Código | G28: Unid | H28: Custo | I28: Consumo | J28: R$ Custo Unitário
H29: (R$)
B30: MDF FREIJÓ 15MM CHAPA 2775X1850MM | F30: MERCADO | G30: UNI | H30: 343.62 | I30: 0.75 | J30: =TRUNC(H30*I30,2) -> 257.71
B31: FITA DE BORDO FREIJÓ TX 22X0,45MM | F31: MERCADO | G31: M | H31: 2.13 | I31: 45 | J31: =TRUNC(H31*I31,2) -> 95.85
B32: COLA TECK BOND | F32: MERCADO | G32: UNI | H32: 14 | I32: 0.2 | J32: =TRUNC(H32*I32,2) -> 2.8
B33: BUCHA | F33: MERCADO | G33: UNI | H33: 0.1 | I33: 14 | J33: =TRUNC(H33*I33,2) -> 1.4
B34: PARAFUSOS | F34: MERCADO | G34: UNI | H34: 0.14 | I34: 66.7 | J34: =TRUNC(H34*I34,2) -> 9.33
J35: =TRUNC(H35*I35,2) -> 0
B36: Custo Total do Material - Total (E) | J36: =SUM(J30:J35) -> 367.09 | M36: =178.1+49.98 -> 228.08
B38: Serviços | F38: Código | G38: Unid | H38: Custo | I38: Consumo | J38: R$ Custo Unitário
H39: (R$)
B40: CORTE DE PEÇAS EM MDF | F40: MERCADO | G40: M | H40: 6 | I40: 8.33 | J40: =H40*I40 -> 49.98
B44: Custo Total do Serviço - Total (F) | J44: =SUM(J40:J43) -> 49.98
B46: Custo Unitário Sem Transporte (D+E+F) = (G) | J46: =+J36+J26+J44 -> 472.21
B48: Transporte | D48: Código | E48: DMT | F48: DMT | G48: DMT | H48: Custo | I48: Consumo | J48: R$ Custo Unitário
E49: (XP) | F49: (XR) | G49: (XS) | H49: (R$) | I49: (ton)
B53: Custo Total do Transporte - Total (F)
B55: R$ Custo Unitário Direto (F) + (G) = (H) | J55: =+J53+J46 -> 472.21
B56: R$ Bonificação (H) x (BDI) = (I) | D56: 0.309 | J56: =TRUNC(J55*D56,2) -> 145.91
B57: R$ Preço Unitário (H) + (I) = (J) | J57: =ROUND(J56+J55,2) -> 618.12
B59: Observações:
B60: Composição baseada na tabela referencial de preços de julho de 2021 ORSE.

Sheet COMP. PAINEL MDF RIPADO
B2: Item: | C2: Serviço: PAINEL EM MDF RIPADO FREIJÓ | I2: Data-base: | J2: Unidade:
B3: MERCADO | I3: 44958 | J3: m2
B4: COTAÇÕES | F4: PAINEL | G4: FITA
B5: BM MADEIRAS | D5: (27)3361-2961 | F5: 350 | G5: 1.44
B6: LEROY MERLIM | D6: 4020-5376 | F6: =70.7*5.09 -> 359.863 | G6: 3.69
B7: MADEIRAS ALBA | D7: (27)3038-6488 | F7: 321 | G7: 1.25
B9: Equipamento | D9: Código | E9: Quant | F9: Uilização | H9: Custo operacional | J9: R$ Custo Horário
F10: Oper. | G10: Improd. | H10: Oper. | I10: Improd.
J11: =TRUNC(E11*(F11*H11+G11*I11),2) -> 0
B15: Custo Horário de Equipamentos - Total (A) | J15: =SUM(J11:J14) -> 0
B17: Mão-de-Obra | F17: Código | G17: Unidade | H17: Quant. | I17: R$ Salário Hora | J17: R$ Custo Horário
B19: AJUDANTE (AJUDANTE PRATICO - SINDUSCON) (LABOR) | F19: '010101 | G19: H | H19: 0.594 | I19: 18.01 | J19: =TRUNC(H19*I19,2) -> 10.69
B20: CARPINTEIRO (OFICIAL - SINDUSCON) (LABOR) | F20: '010111 | G20: H | H20: 0.377 | I20: 21.35 | J20: =TRUNC(H20*I20,2) -> 8.04
B23: Custo Horário de Mão-de-Obra - Total (B) | J23: =SUM(J19:J22) -> 18.73
B25: Produção Equipe (C) : | D25: 1 | E25: =+J3 -> m2 | F25: Adc. M.O. - Ferramentas: | I25: 0.05 | J25: =+TRUNC(J23*I25,2) -> 0.93
B26: Custo Unitário da Execução (A+B)/(C)=(D) | J26: =TRUNC((J15+J23+J25)/D25,2) -> 19.66
B28: Material (p/unidade) | F28: Código | G28: Unid | H28: Custo | I28: Consumo | J28: R$ Custo Unitário
H29: (R$)
B30: MDF FREIJÓ 15MM CHAPA 2775X1850MM | F30: MERCADO | G30: UNI | H30: 343.62 | I30: 2 | J30: =TRUNC(H30*I30,2) -> 687.24
B31: FITA DE BORDO FREIJÓ TX 22X0,45MM | F31: MERCADO | G31: M | H31: 2.13 | I31: 45 | J31: =TRUNC(H31*I31,2) -> 95.85
B32: COLA TECK BOND | F32: MERCADO | G32: UNI | H32: 14 | I32: 0.2 | J32: =TRUNC(H32*I32,2) -> 2.8
B33: BUCHA | F33: MERCADO | G33: UNI | H33: 0.1 | I33: 14 | J33: =TRUNC(H33*I33,2) -> 1.4
B34: PARAFUSOS | F34: MERCADO | G34: UNI | H34: 0.14 | I34: 66.7 | J34: =TRUNC(H34*I34,2) -> 9.33
J35: =TRUNC(H35*I35,2) -> 0
B36: Custo Total do Material - Total (E) | J36: =SUM(J30:J35) -> 796.62
B38: Serviços | F38: Código | G38: Unid | H38: Custo | I38: Consumo | J38: R$ Custo Unitário
H39: (R$)
B40: CORTE DE PEÇAS EM MDF | F40: MERCADO | G40: M | H40: 6 | I40: 54 | J40: =H40*I40 -> 324
B44: Custo Total do Serviço - Total (F) | J44: =SUM(J40:J43) -> 324
B46: Custo Unitário Sem Transporte (D+E+F) = (G) | J46: =+J36+J26+J44 -> 1140.28
B48: Transporte | D48: Código | E48: DMT | F48: DMT | G48: DMT | H48: Custo | I48: Consumo | J48: R$ Custo Unitário
E49: (XP) | F49: (XR) | G49: (XS) | H49: (R$) | I49: (ton)
B53: Custo Total do Transporte - Total (F)
B55: R$ Custo Unitário Direto (F) + (G) = (H) | J55: =+J53+J46 -> 1140.28
B56: R$ Bonificação (H) x (BDI) = (I) | D56: 0.309 | J56: =TRUNC(J55*D56,2) -> 352.34
B57: R$ Preço Unitário (H) + (I) = (J) | J57: =ROUND(J56+J55,2) -> 1492.62
B59: Observações:
B60: Composição baseada na tabela referencial de preços de julho de 2021 ORSE.

Sheet COMP. PORTAS
B2: Item: | C2: Serviço: PORTA DE MADEIRA DE LEI REVESTIDA COM PAINEL RIPADO | I2: Data-base: | J2: Unidade:
B3: MERCADO | I3: 44958 | J3: UNI
B4: COTAÇÕES
B5: JATOBA MADEIRAS | D5: (27)3362-9856 | E5: 1583.4
B6: MARION MADEIRAS | D6: (27)3362-0096 | E6: 3911
B7: BM MADEIRAS | D7: (27)3361-2961 | E7: 2200
B9: Equipamento | D9: Código | E9: Quant | F9: Uilização | H9: Custo operacional | J9: R$ Custo Horário
F10: Oper. | G10: Improd. | H10: Oper. | I10: Improd.
J11: =TRUNC(E11*(F11*H11+G11*I11),2) -> 0
N14: =7694.4/3 -> 2564.8
B15: Custo Horário de Equipamentos - Total (A) | J15: =SUM(J11:J14) -> 0
B17: Mão-de-Obra | F17: Código | G17: Unidade | H17: Quant. | I17: R$ Salário Hora | J17: R$ Custo Horário
B19: AJUDANTE (AJUDANTE PRATICO - SINDUSCON) (LABOR) | F19: '010101 | G19: H | H19: 0.594 | I19: 18.01 | J19: =TRUNC(H19*I19,2) -> 10.69
B20: CARPINTEIRO (OFICIAL - SINDUSCON) (LABOR) | F20: '010111 | G20: H | H20: 0.377 | I20: 21.35 | J20: =TRUNC(H20*I20,2) -> 8.04
B22: Custo Horário de Mão-de-Obra - Total (B) | J22: =SUM(J19:J21) -> 18.73
B24: Produção Equipe (C) : | D24: 1 | E24: =+J3 -> UNI | F24: Adc. M.O. - Ferramentas: | I24: 0.05 | J24: =+TRUNC(J22*I24,2) -> 0.93
B25: Custo Unitário da Execução (A+B)/(C)=(D) | J25: =TRUNC((J15+J22+J24)/D24,2) -> 19.66
B27: Material (p/unidade) | F27: Código | G27: Unid | H27: Custo | I27: Consumo | J27: R$ Custo Unitário
H28: (R$)
B29: PORTA MADEIRA DE LEI TIPO PARAJU | F29: MERCADO | G29: UNI | H29: 2564.8 | I29: 1 | J29: =TRUNC(H29*I29,2) -> 2564.8
B30: RIPAS EM MADEIRA DE LEI TIPO PARAJU | F30: MERCADO | G30: M | H30: 343.62 | I30: 1 | J30: =TRUNC(H30*I30,2) -> 343.62
B31: COLA PARA MADEIRA | F31: MERCADO | G31: KG | H31: 39.99 | I31: 1.02 | J31: =TRUNC(H31*I31,2) -> 40.78
J32: =TRUNC(H32*I32,2) -> 0
J33: =TRUNC(H33*I33,2) -> 0
J34: =TRUNC(H34*I34,2) -> 0
J35: =TRUNC(H35*I35,2) -> 0
J36: =TRUNC(H36*I36,2) -> 0
J37: =TRUNC(H37*I37,2) -> 0
J38: =TRUNC(H38*I38,2) -> 0
J39: =TRUNC(H39*I39,2) -> 0
B40: Custo Total do Material - Total (E) | J40: =SUM(J29:J39) -> 2949.2
B42: Serviços | F42: Código | G42: Unid | H42: Custo | I42: Consumo | J42: R$ Custo Unitário
H43: (R$)
B44: CORTE DE PEÇAS EM MDF | F44: MERCADO | G44: M | H44: 6 | I44: 42 | J44: =H44*I44 -> 252
B48: Custo Total do Serviço - Total (F) | J48: =SUM(J44:J47) -> 252
B50: Custo Unitário Sem Transporte (D+E+F) = (G) | J50: =+J40+J25+J48 -> 3220.86
B52: Transporte | D52: Código | E52: DMT | F52: DMT | G52: DMT | H52: Custo | I52: Consumo | J52: R$ Custo Unitário
E53: (XP) | F53: (XR) | G53: (XS) | H53: (R$) | I53: (ton)
B57: Custo Total do Transporte - Total (F)
B59: R$ Custo Unitário Direto (F) + (G) = (H) | J59: =+J57+J50 -> 3220.86
...

Sheet COMP. PERFIL LED
B2: Item: | C2: Serviço: PERFIL ALUMÍNIO DE LED DE EMBUTIR LARGURA 2CM | I2: Data-base: | J2: Unidade:
B3: MERCADO | I3: 44958 | J3: M
B4: COTAÇÕES | F4: PERFIL | G4: FITA DE LED
B5: DG MATERIAL ELÉTRICO | D5: (27)3361-2911 | F5: 79.9 | G5: =75+47.9 -> 122.9
B6: CENTRO ELÉTRICO | D6: (27)3262-8526 | F6: 122 | G6: =(19.9*5)+44.9 -> 144.4
B7: AVANT ILUMINAÇÃO | D7: (27)3357-2500 | F7: 154 | G7: =30*5 -> 150
B9: Equipamento | D9: Código | E9: Quant | F9: Uilização | H9: Custo operacional | J9: R$ Custo Horário
F10: Oper. | G10: Improd. | H10: Oper. | I10: Improd.
J11: =TRUNC(E11*(F11*H11+G11*I11),2) -> 0
B15: Custo Horário de Equipamentos - Total (A) | J15: =SUM(J11:J14) -> 0
B17: Mão-de-Obra | F17: Código | G17: Unidade | H17: Quant. | I17: R$ Salário Hora | J17: R$ Custo Horário
B19: AJUDANTE (AJUDANTE PRATICO - SINDUSCON) (LABOR) | F19: '010101 | G19: H | H19: 1.2 | I19: 18.01 | J19: =TRUNC(H19*I19,2) -> 21.61
B20: ELETRICISTA (OFICIAL - SINDUSCON) (LABOR) | F20: '010115 | G20: H | H20: 1.2 | I20: 21.35 | J20: =TRUNC(H20*I20,2) -> 25.62
B22: Custo Horário de Mão-de-Obra - Total (B) | J22: =SUM(J19:J21) -> 47.23
B24: Produção Equipe (C) : | D24: 1 | E24: =+J3 -> M | F24: Adc. M.O. - Ferramentas: | I24: 0.05 | J24: =+TRUNC(J22*I24,2) -> 2.36
B25: Custo Unitário da Execução (A+B)/(C)=(D) | J25: =TRUNC((J15+J22+J24)/D24,2) -> 49.59
B27: Material (p/unidade) | F27: Código | G27: Unid | H27: Custo | I27: Consumo | J27: R$ Custo Unitário
H28: (R$)
B29: PERFIL ALUMÍNIO DE LED DE EMBUTIR 2,00X0,02M | F29: MERCADO | G29: M | H29: 118.63 | I29: 0.5 | J29: =TRUNC(H29*I29,2) -> 59.31
B30: FITA DE LED QUENTE ROLO 5 METROS INCLUSIVE FONTE | F30: MERCADO | G30: M | H30: 139.1 | I30: 0.2 | J30: =TRUNC(H30*I30,2) -> 27.82
J31: =TRUNC(H31*I31,2) -> 0
B32: Custo Total do Material - Total (E) | J32: =SUM(J29:J31) -> 87.13
B34: Serviços | F34: Código | G34: Unid | H34: Custo | I34: Consumo | J34: R$ Custo Unitário
H35: (R$)
J36: =H36*I36 -> 0
B40: Custo Total do Serviço - Total (F) | J40: =SUM(J36:J39) -> 0
B42: Custo Unitário Sem Transporte (D+E+F) = (G) | J42: =+J32+J25+J40 -> 136.72
B44: Transporte | D44: Código | E44: DMT | F44: DMT | G44: DMT | H44: Custo | I44: Consumo | J44: R$ Custo Unitário
E45: (XP) | F45: (XR) | G45: (XS) | H45: (R$) | I45: (ton)
B49: Custo Total do Transporte - Total (F)
B51: R$ Custo Unitário Direto (F) + (G) = (H) | J51: =+J49+J42 -> 136.72
B52: R$ Bonificação (H) x (BDI) = (I) | D52: 0.309 | J52: =TRUNC(J51*D52,2) -> 42.24
B53: R$ Preço Unitário (H) + (I) = (J) | J53: =ROUND(J52+J51,2) -> 178.96
B55: Observações:
B56: Composição baseada na tabela referencial de preços de julho de 2021 ORSE.
