Workbook

Sheet Planilha
A6: PLANILHA DE CUSTOS REFERENCIAIS | D6: REFORMA DA CÂMARA MUNICIPAL DE GUARAPARI
A7: DATA BASE : LABOR/CT-UFES PADRÃO DER SETEMBRO/2021
A8: PREFEITURA MUNICIPAL DE GUARAPARI
A9: BDI - 30,9% / LS - 157,77%
A10: ITEM | B10: REF. | C10: ESPECIFICAÇÃO | D10: UND. | E10: QUANT. | F10: UNIT. | G10: TOTAL
A11: 01 | B11: - | C11: SERVIÇOS PRELIMINARES | G11: =SUM(G12:G18) -> 6726.08
A12: 01.01 | B12: 010208 | C12: Retirada de revestimento antigo em reboco | D12: m2 | E12: ='Memória de Cálculo'!G25 -> 237.65 | F12: 10.415 | G12: =ROUND(F12*E12,2) -> 2475.12
A13: 01.02 | B13: 010246 | C13: Lixamento de parede com pintura antiga PVA para recebimento de nova camada de tinta | D13: m2 | E13: ='Memória de Cálculo'!G39 -> 335.28 | F13: 3.04 | G13: =ROUND(F13*E13,2) -> 1019.25
A14: 01.03 | B14: COMP.01 | C14: Lixamento de teto com pintura antiga PVA para recebimento de nova camada de tinta | D14: m2 | E14: ='Memória de Cálculo'!G53 -> 101.02 | F14: 6.73 | G14: =ROUND(F14*E14,2) -> 679.86
A15: 01.04 | B15: 010220 | C15: Demolição de piso cimentado, exclusive lastro de concreto | D15: m2 | E15: ='Memória de Cálculo'!G56 -> 33 | F15: 12.88 | G15: =ROUND(F15*E15,2) -> 425.04
A16: 01.05 | B16: 010256 | C16: Remoção de telha ondulada de fibrocimento, inclusive cumeeira | D16: m2 | E16: ='Memória de Cálculo'!G61 -> 125.8962 | F16: 8 | G16: =ROUND(F16*E16,2) -> 1007.17
A17: 01.06 | B17: 010214 | C17: Retirada de portas e janelas de madeira, inclusive batentes | D17: m2 | E17: 30.52 | F17: 16.72 | G17: =ROUND(F17*E17,2) -> 510.29
A18: 01.07 | B18: 010209 | C18: Demolição de alvenaria | D18: m3 | E18: ='Memória de Cálculo'!G69 -> 9.72 | F18: 62.69 | G18: =ROUND(F18*E18,2) -> 609.35
A20: 02 | B20: - | C20: REVESTIMENTO DE PAREDE | G20: =SUM(G21:G25) -> 64508.16
A21: 02.01 | B21: 120308 | C21: Chapisco de argamassa de cimento e areia média ou grossa lavada no traço 1:3, espessura 5mm, com utilização de impermeabilizante | D21: m2 | E21: ='Memória de Cálculo'!G84 -> 237.65 | F21: 8.35 | G21: =ROUND(F21*E21,2) -> 1984.38
A22: 02.02 | B22: 120304 | C22: Reboco de argamassa de cimento, cal hidratada CH1 e areia média ou grossa lavada no traço 1:0.5:6, com impermeabilizante para revestimentos | D22: m2 | E22: =E21 -> 237.65 | F22: 68.58 | G22: =ROUND(F22*E22,2) -> 16298.04
A23: 02.03 | B23: COMP. 02 | C23: Assentamento de cerâmica monoporosa Bardosh 32 x 60 cm, juntas a prumo, assentado com argamassa de cimento colante, inclusive rejuntamento com cimento branco | D23: m2 | E23: ='Memória de Cálculo'!G109 -> 70.71 | F23: 218.11 | G23: =ROUND(F23*E23,2) -> 15422.56
A24: 02.04 | B24: 190106 | C24: Pintura com tinta acrílica, marcas de referência Suvinil, Coral ou Metalatex, inclusive selador acrílico, em paredes e forros, a três demãos | D24: m2 | E24: ='Memória de Cálculo'!G115 -> 1020.3 | F24: 27.14 | G24: =ROUND(F24*E24,2) -> 27690.94
A25: 02.05 | B25: COMP. 03 | C25: Pintura com textura acrílica Suvinil, Coral ou Metalatex, inclusive selador acrílico, em paredes externas a três demãos | D25: m2 | E25: ='Memória de Cálculo'!G120 -> 103.88 | F25: 29.96 | G25: =ROUND(F25*E25,2) -> 3112.24
A27: 03 | B27: - | C27: COBERTURA | G27: =SUM(G28:G30) -> 28989.34
A28: 03.01 | B28: 090312 | C28: Calha em chapa galvanizada com largura de 40 cm | D28: m | E28: ='Memória de Cálculo'!G131 -> 50 | F28: 172.93 | G28: =ROUND(F28*E28,2) -> 8646.5
A29: 03.02 | B29: 090314 | C29: Rufo de chapa de alumínio esp. 0.5mm, largura de 30cm | D29: m | E29: ='Memória de Cálculo'!G131 -> 50 | F29: 58.97 | G29: =ROUND(F29*E29,2) -> 2948.5
A30: 03.03 | B30: 090228 | C30: Cobertura em telha em aço galvalume trapezoidal 40, e=0.50mm, pintura cor branca nas duas faces, inclusive acessório de fixação Ref. Santo André, Eternit, Metform ou equivalente | D30: m2 | E30: 125.9 | F30: 138.16 | G30: =ROUND(F30*E30,2) -> 17394.34
A32: 04 | B32: - | C32: REVISÕES E REPAROS | G32: =SUM(G33:G42) -> 25386.16
A33: 04.01 | B33: 130403 | C33: Recomposição de piso cimentado, com argamassa de cimento e areia no traço 1:3, com 2 cm de espessura, incl. Lastro | D33: und | E33: ='Memória de Cálculo'!G140 -> 33 | F33: 137.55 | G33: =ROUND(F33*E33,2) -> 4539.15
A34: 04.02 | B34: 090305 | C34: Calha de concreto armado Fck=15 MPa em "U" nas dimensões de 38 x 56 cm conforme detalhes em projeto | D34: m | E34: ='Memória de Cálculo'!G143 -> 11 | F34: 313.27 | G34: =ROUND(F34*E34,2) -> 3445.97
A35: 04.03 | B35: 130317 | C35: Peitoril de granito cinza polido, com pingadeira, 15 cm, esp. 3cm | D35: m | E35: ='Memória de Cálculo'!G146 -> 25 | F35: 91.07 | G35: =ROUND(F35*E35,2) -> 2276.75
A36: 04.04 | B36: 090502 | C36: Recolocação de estrutura de madeira para telhado com telha ondulada de fibrocimento ou telha ecológica tipo onduline, com pontaletes e caibros, exclusive fornecimento | D36: m2 | E36: ='Memória de Cálculo'!G149 -> 47.6 | F36: 24.19 | G36: =ROUND(F36*E36,2) -> 1151.44
A37: 04.05 | B37: 050605 | C37: Alvenaria de blocos cerâmicos 10 furos 10x20x20cm, assentados c/argamassa de cimento, cal hidratada CH1 e areia traço 1:0,5:8, juntas 12mm e esp. das paredes s/revestimento, 10cm | D37: m2 | E37: 15 | F37: 70.73 | G37: =ROUND(F37*E37,2) -> 1060.95
A38: 04.06 | B38: - | C38: SUPERESTRUTURA
A39: 04.06.01 | B39: 040315 | C39: Fornecimento, preparo e aplicação de concreto Fck = 30 MPa (com brita 1 e 2) - (5% de perdas já incluído no custo) | D39: m3 | E39: 5 | F39: 898.71 | G39: =ROUND(F39*E39,2) -> 4493.55
A40: 04.06.02 | B40: 040337 | C40: Fôrma em chapa de madeira compensada plastificada 12mm para estrutura em geral, 5 reaproveitamentos, reforçada com sarrafos de madeira 2.5x10cm (incl material, corte, montagem, escoras em eucalipto e desforma) | D40: m2 | E40: 20 | F40: 118.01 | G40: =ROUND(F40*E40,2) -> 2360.2
A41: 04.06.03 | B41: 040243 | C41: Fornecimento, dobragem e colocação em fôrma, de armadura CA-50 A média, diâmetro de 6.3 a 10.0 mm | D41: Kg | E41: 185 | F41: 17.75 | G41: =ROUND(F41*E41,2) -> 3283.75
A42: 04.06.04 | B42: 040246 | C42: Fornecimento, dobragem e colocação em fôrma, de armadura CA-60 B fina, diâmetro de 4.0 a 7.0mm | D42: Kg | E42: 120 | F42: 23.12 | G42: =ROUND(F42*E42,2) -> 2774.4
A44: 05 | B44: - | C44: IMPERMEABILIZAÇÃO CALHAS, LAJES DESCOBERTAS, BALDRAMES, PAREDES E JARDINEIRAS | G44: =SUM(G45) -> 4268.59
A45: 05.01 | B45: 100208 | C45: Índice de imperm.c/ manta asfáltica atendendo NBR 9952, asfalto polimerizado esp.3mm, reforç.c/ filme int. polietileno, regul. base c/ arg.1:4 esp.mín.15mm, proteção mec. arg.1:4 esp.20mm e juntas dilat. | D45: m2 | E45: ='Memória de Cálculo'!G153 -> 14.52 | F45: 293.98 | G45: =ROUND(F45*E45,2) -> 4268.59
A47: 06 | B47: - | C47: TETOS E FORROS | G47: =SUM(G49:G50) -> 10558.19
A48: 06.01 | C48: REBAIXAMENTOS
A49: 06.01.01 | B49: 110201 | C49: Forro de gesso acabamento tipo liso | D49: m2 | E49: ='Memória de Cálculo'!G185 -> 160.41 | F49: 45.82 | G49: =ROUND(F49*E49,2) -> 7349.99
A50: 06.01.02 | B50: MERCADO | C50: Acabamento em gesso tipo linha de sombra | D50: m | E50: ='Memória de Cálculo'!G185 -> 160.41 | F50: 20 | G50: =ROUND(F50*E50,2) -> 3208.2
...

Sheet Memória de Cálculo
A6: PLANILHA DE CUSTOS REFERENCIAIS | C6: REFORMA DA CÂMARA MUNICIPAL DE GUARAPARI
A7: DATA BASE : LABOR/CT-UFES PADRÃO DER SETEMBRO/2021
A8: PREFEITURA MUNICIPAL DE GUARAPARI
A9: BDI - 30,90% / LS - 157,77%
A11: SERVIÇOS PRELIMINARES
A12: Item | B12: Especificação | C12: Quantidade | D12: Lados | E12: Comprimento (m) | F12: Altura (m) | G12: Área (m²)
A13: 01.01 | B13: Retirada de revestimento antigo em reboco
B14: Circulação externa as sala vereadores, banheiro e almoxarifado | D14: 1 | E14: 18 | F14: 3 | G14: =D14*E14*F14 -> 54
B15: Almoxarifado | D15: 1 | E15: 3.28 | F15: 3 | G15: =D15*E15*F15 -> 9.84
B16: Sala Coletiva | D16: 1 | E16: 3.34 | F16: 3 | G16: =D16*E16*F16 -> 10.02
B17: Plenário | D17: 1 | E17: 2.01 | F17: 3 | G17: =D17*E17*F17 -> 6.03
B18: Sala de som | D18: 1 | E18: 2.9 | F18: 3 | G18: =D18*E18*F18 -> 8.7
B19: Taquigrafia | D19: 1 | E19: 2.87 | F19: 3 | G19: =D19*E19*F19 -> 8.61
B20: Cozinha | D20: 2 | E20: 1.47 | F20: 3 | G20: =D20*E20*F20 -> 8.82
B21: Banheiro | D21: 1 | E21: 1.55 | F21: 3 | G21: =D21*E21*F21 -> 4.65
B22: Diretoria | D22: 1 | E22: 3.3 | F22: 3 | G22: =D22*E22*F22 -> 9.9
B23: Procuradoria | D23: 1 | E23: 4.4 | F23: 3 | G23: =D23*E23*F23 -> 13.2
B24: Parede externa fundos da edificação | D24: 1 | E24: 18.55 | F24: 5.6 | G24: =D24*E24*F24 -> 103.88
G25: =SUM(G14:G24) -> 237.65
A27: 01.02 | B27: Lixamento de parede com pintura antiga PVA para recebimento de nova camada de tinta | D27: Lados | E27: Perímetro (m) | F27: Altura (m) | G27: Área (m²)
B28: Taquigrafia | D28: 1 | E28: =3+5.61+5.83 -> 14.44 | F28: 3 | G28: =F28*E28*D28 -> 43.32
B29: Sala de som | D29: 1 | E29: =2.12+1.9+2.9 -> 6.92 | F29: 3 | G29: =F29*E29*D29 -> 20.76
B30: Sala coletiva | D30: 1 | E30: =2.31+2.58+3.34 -> 8.23 | F30: 3 | G30: =F30*E30*D30 -> 24.69
B31: Almoxarifado | D31: 1 | E31: =2.83+2.58+3.28 -> 8.69 | F31: 3 | G31: =F31*E31*D31 -> 26.07
B32: Plenário | D32: 1 | E32: =10.8+3.53+3.1+3.94+3.82+8.62 -> 33.81 | F32: 3 | G32: =F32*E32*D32 -> 101.43
B33: Diretoria | D33: 1 | E33: =(2.02*2)+3.3 -> 7.34 | F33: 3 | G33: =F33*E33*D33 -> 22.02
B34: Procuradoria | D34: 1 | E34: =2.02*2 -> 4.04 | F34: 3 | G34: =F34*E34*D34 -> 12.12
B35: Sala 01 | D35: 1 | E35: 4 | F35: 3 | G35: =F35*E35*D35 -> 12
B36: Sala 02 | D36: 1 | E36: 2.8 | F36: 3 | G36: =F36*E36*D36 -> 8.4
B37: Sala 03 | D37: 1 | E37: =(6.44*2)+3 -> 15.88 | F37: 3 | G37: =F37*E37*D37 -> 47.64
B38: Circulação | D38: 1 | E38: 5.61 | F38: 3 | G38: =F38*E38*D38 -> 16.83
G39: =SUM(G28:G38) -> 335.28
A41: 01.03 | B41: Lixamento de teto com pintura antiga PVA para recebimento de nova camada de tinta | D41: Lados | E41: Comprimento (m) | F41: Altura (m) | G41: Área (m²)
B42: Taquigrafia | D42: 1 | G42: 5.56
B43: Sala de som | D43: 1 | G43: 5.82
B44: Sala coletiva | D44: 1 | G44: 8.12
B45: Almoxarifado | D45: 1 | G45: 8.84
B46: Plenário | D46: 1 | G46: 4.73
B47: Diretoria | D47: 1 | G47: 6.67
B48: Procuradoria | D48: 1 | G48: 15.05
...

Sheet Composição de Custos
A2: TABELA CUSTOS LABOR/CT-UFES PADRÃO DER SETEMBRO/2021(LS=157,27; BDI=30,9%)
A3: Item: 010208 - Retirada de revestimento antigo em reboco | H3: Unidade: m2
A4: Base: LABOR | C4: Código Base: '010208 | E4: Fonte: LABOR | H4: Versão: 1
A6: MÃO DE OBRA | B6: Unid | C6: Código | D6: Coefic. | E6: C. Prod. | F6: Pr. Prod. | G6: Pr. Improd. | H6: Pr. Unit. | I6: Fator Ac. | J6: Subtotal
A7: PEDREIRO - (OFICIAL - SINDUSCON) (LABOR) | B7: H | C7: '010139 | D7: 0.05 | E7: 1 | F7: 7.43 | G7: 0 | H7: 19.12 | I7: - | J7: 0.956
A8: SERVENTE (AUXILIAR DE OBRAS - SINDUSCON) (LABOR) | B8: H | C8: '010146 | D8: 0.5 | E8: 1 | F8: 5.46 | G8: 0 | H8: 14.05 | I8: - | J8: 7.025
A9: SubTotal: | J9: 7.98
A11: RESUMO
A12: DISCRIMINAÇÃO | D12: TAXA(%) | E12: VALORES
A13: Mão-de-Obra(A) | D13: 157.27 | E13: 7.98
A14: Materiais(B) | E14: 0
A15: Equipamentos(C) | E15: 0
A16: Produção da Equipe(D) | E16: 1
A17: Custo Horário Total(A+C) | E17: 7.98
A18: Custo Unitário da Execução[(A/D)+(C/D)] = E | E18: 7.98
A19: Custo Direto Total(B+E) | E19: 7.98
A20: Bonificações e Despesas Indiretas - BDI | D20: 30.9 | E20: 0
A21: CUSTO UNITÁRIO (Adotado) | E21: =E19*1.309 -> 10.44582
A24: Item: 010246 - Lixamento de parede com pintura antiga PVA para recebimento de nova camada de tinta | H24: Unidade: m2
A25: Base: LABOR | C25: Código Base: '010246 | E25: Fonte: LABOR | H25: Versão: 1
A27: MÃO DE OBRA | B27: Unid | C27: Código | D27: Coefic. | E27: C. Prod. | F27: Pr. Prod. | G27: Pr. Improd. | H27: Pr. Unit. | I27: Fator Ac. | J27: Subtotal
A28: SERVENTE (AUXILIAR DE OBRAS - SINDUSCON) (LABOR) | B28: H | C28: '010146 | D28: 0.2 | E28: 1 | F28: 5.46 | G28: 0 | H28: 14.05 | I28: - | J28: 2.81
A29: SubTotal: | J29: 2.81
A31: MATERIAL | B31: Unid | C31: Código | D31: Coefic. | E31: C. Prod. | F31: Pr. Prod. | G31: Pr. Improd. | H31: Pr. Unit. | I31: Fator Ac. | J31: Subtotal
A32: LIXA PARA MADEIRA/MASSA Nº 150 (LABOR) | B32: UN | C32: '038013 | D32: 0.25 | E32: 1 | F32: 0.91 | G32: 0 | H32: 0.91 | I32: - | J32: 0.228
A33: SubTotal: | J33: 0.23
A35: RESUMO
A36: DISCRIMINAÇÃO | D36: TAXA(%) | E36: VALORES
A37: Mão-de-Obra(A) | D37: 157.27 | E37: 2.81
A38: Materiais(B) | E38: 0.23
A39: Equipamentos(C) | E39: 0
A40: Produção da Equipe(D) | E40: 1
A41: Custo Horário Total(A+C) | E41: 2.81
A42: Custo Unitário da Execução[(A/D)+(C/D)] = E | E42: 2.81
A43: Custo Direto Total(B+E) | E43: 3.04
A44: Bonificações e Despesas Indiretas - BDI | D44: 30.9 | E44: 0
A45: CUSTO UNITÁRIO (Adotado) | E45: =E43*1.309 -> 3.97936
A48: Item: COMP. 01 - Lixamento de teto com pintura antiga PVA para recebimento de nova camada de tinta | H48: Unidade: m2
A49: Base: LABOR | C49: Código Base: '010246 | E49: Fonte: LABOR | H49: Versão: 1
A51: MÃO DE OBRA | B51: Unid | C51: Código | D51: Coefic. | E51: C. Prod. | F51: Pr. Prod. | G51: Pr. Improd. | H51: Pr. Unit. | I51: Fator Ac. | J51: Subtotal
...

Sheet Cronograma
A6: CRONOGRAMA FISICO-FINANCEIRO
A7: REFORMA DA CÂMARA MUNICIPAL DE GUARAPARI | J7: DATA BASE: SETEMBRO/2021
A8: ITEM | B8: SERVIÇOS | H8: % | I8: TOTAL
J9: 1 | K9: 2 | L9: 3 | M9: 4
A10: 1 | B10: =Planilha!C11 -> SERVIÇOS PRELIMINARES | H10: =I10/I22 -> 0.021808125 | I10: =Planilha!G11 -> 6726.08 | J10: =I10 -> 6726.08
A11: 2 | B11: =Planilha!$C$20 -> REVESTIMENTO DE PAREDE | H11: =I11/I22 -> 0.2091563 | I11: =Planilha!$G$20 -> 64508.16 | K11: =I11/3 -> 21502.72 | L11: =I11/3 -> 21502.72 | M11: =I11/3 -> 21502.72
A12: 3 | B12: =Planilha!$C$27 -> COBERTURA | H12: =I12/I22 -> 0.093992808 | I12: =Planilha!$G$27 -> 28989.34 | J12: =I12/2 -> 14494.67 | K12: =I12/2 -> 14494.67
A13: 4 | B13: =Planilha!$C$32 -> REVISÕES E REPAROS | H13: =I13/I22 -> 0.082310135 | I13: =Planilha!$G$32 -> 25386.16 | J13: =I13/2 -> 12693.08 | K13: =I13/2 -> 12693.08
A14: 5 | B14: =Planilha!$C$44 -> IMPERMEABILIZAÇÃO CALHAS, LAJES DESCOBERTAS, BALDRAMES, PAREDES E JARDINEIRAS | H14: =I14/I22 -> 0.013840148 | I14: =Planilha!$G$44 -> 4268.59 | L14: =I14 -> 4268.59
A15: 6 | B15: =Planilha!C47 -> TETOS E FORROS | H15: =I15/I22 -> 0.034233064 | I15: =Planilha!G47 -> 10558.19 | L15: =I15 -> 10558.19
A16: 7 | B16: =Planilha!C52 -> INSTALAÇÕES ELÉTRICAS | H16: =I16/I22 -> 0.13532247 | I16: =Planilha!G52 -> 41736.27 | J16: =I16/3 -> 13912.09 | K16: =I16/3 -> 13912.09 | L16: =I16/3 -> 13912.09
A17: 8 | B17: =Planilha!C78 -> INSTALAÇÕES REDE LÓGICA | H17: =I17/I22 -> 0.0076259441 | I17: =Planilha!G78 -> 2352 | M17: =I17 -> 2352
A18: 9 | B18: =Planilha!C83 -> ESQUADRIAS DE MADEIRA | H18: =I18/I22 -> 0.092718284 | I18: =Planilha!G83 -> 28596.25 | J18: =I18/2 -> 14298.125 | K18: =I18/2 -> 14298.125
A19: 10 | B19: =Planilha!C89 -> APARELHOS HIDROSSANITÁRIOS | H19: =I19/I22 -> 0.047467319 | I19: =Planilha!G89 -> 14639.91 | L19: =I19 -> 14639.91
A20: 11 | B20: =Planilha!C98 -> ACABAMENTOS | H20: =I20/I22 -> 0.24461153 | I20: =Planilha!G98 -> 75443.29 | L20: =I20/2 -> 37721.645 | M20: =I20/2 -> 37721.645
A21: 12 | B21: =Planilha!C109 -> TRATAMENTO, CONSERVAÇÃO E LIMPEZA | H21: =I21/I22 -> 0.016913871 | I21: =Planilha!G109 -> 5216.59 | M21: =I21 -> 5216.59
A22: TOTAIS | H22: =SUM(H10:H15) -> 0.45534058 | I22: =SUM(I10:I21) -> 308420.83
A23: % MENSAL | J23: =J24/I22 -> 0.20142623 | K23: =K24/I22 -> 0.24933687 | L23: =L24/I22 -> 0.33267255 | M23: =M24/I22 -> 0.21656434
A24: TOTAL MENSAL | J24: =SUM(J10:J22) -> 62124.045 | K24: =SUM(K10:K22) -> 76900.685 | L24: =SUM(L10:L22) -> 102603.15 | M24: =SUM(M10:M22) -> 66792.955
A25: % ACUMULADO | J25: =SUM(J23:J23) -> 0.20142623 | K25: =K23+J25 -> 0.4507631 | L25: =K25+L23 -> 0.78343566 | M25: =M23+L25 -> 1
A26: TOTAL ACUMULADO | J26: =SUM(J24:J24) -> 62124.045 | K26: =J26+K24 -> 139024.73 | L26: =K26+L24 -> 241627.88 | M26: =M24+L26 -> 308420.83
I27: ______________________________________
I28: Geraldo Brunoro Esteves- CREA-ES 033738/D
